BEGIN:VCALENDAR
VERSION:2.0
PRODID:-//Karting nouvelle Aquitaine Sud
CALSCALE:GREGORIAN
METHOD:PUBLISH
X-WR-CALNAME:Karting nouvelle Aquitaine Sud
X-ORIGINAL-URL:https://karting-aquitaine.fr/courses/escource-13-avril/
X-WR-CALDESC:Escource
BEGIN:VEVENT
DTSTART;TZID=Europe/Helsinki:20250413T080000
DTEND;TZID=Europe/Helsinki:20250413T170000
SUMMARY:Escource
DESCRIPTION:PROGRAMME DE LA COURSE
URL:https://karting-aquitaine.fr/courses/escource-13-avril/
LOCATION:1000 La Brûle, 40210 Escource
END:VEVENT
END:VCALENDAR
