BEGIN:VCALENDAR
VERSION:2.0
PRODID:-//Karting nouvelle Aquitaine Sud
CALSCALE:GREGORIAN
METHOD:PUBLISH
X-WR-CALNAME:Karting nouvelle Aquitaine Sud
X-ORIGINAL-URL:https://karting-aquitaine.fr/courses/saint-genis-18-mai/
X-WR-CALDESC:Saint Genis
BEGIN:VEVENT
DTSTART;TZID=Europe/Helsinki:20250518T080000
DTEND;TZID=Europe/Helsinki:20250518T170000
SUMMARY:Saint Genis
DESCRIPTION:PROGRAMME DE LA COURSE
URL:https://karting-aquitaine.fr/courses/saint-genis-18-mai/
LOCATION:Terres du Poteau 17240 Saint-Genis-de-Saintonge
END:VEVENT
END:VCALENDAR
