BEGIN:VCALENDAR
VERSION:2.0
PRODID:-//Karting nouvelle Aquitaine Sud
CALSCALE:GREGORIAN
METHOD:PUBLISH
X-WR-CALNAME:Karting nouvelle Aquitaine Sud
X-ORIGINAL-URL:https://karting-aquitaine.fr/courses/nontron-15-juin/
X-WR-CALDESC:Nontron
BEGIN:VEVENT
DTSTART;TZID=Europe/Helsinki:20250615T080000
DTEND;TZID=Europe/Helsinki:20250615T170000
SUMMARY:Nontron
DESCRIPTION:PROGRAMME DE LA COURSE
URL:https://karting-aquitaine.fr/courses/nontron-15-juin/
LOCATION:Terre de Beaumont Teyjat BP 12 <br> 24300 JAVERLHAC
END:VEVENT
END:VCALENDAR
