BEGIN:VCALENDAR
VERSION:2.0
PRODID:-//Karting nouvelle Aquitaine Sud
CALSCALE:GREGORIAN
METHOD:PUBLISH
X-WR-CALNAME:Karting nouvelle Aquitaine Sud
X-ORIGINAL-URL:https://karting-aquitaine.fr/courses/magescq/
X-WR-CALDESC:Magescq
BEGIN:VEVENT
DTSTART;TZID=Europe/Helsinki:20241117T080000
DTEND;TZID=Europe/Helsinki:20241117T170000
SUMMARY:Magescq
DESCRIPTION:PROGRAMME DE LA COURSE
URL:https://karting-aquitaine.fr/courses/magescq/
LOCATION:2981 route de Léon 40140 MAGESCQ
END:VEVENT
END:VCALENDAR
